BEGIN:VCALENDAR
VERSION:2.0
PRODID:-//NADI Pekan Padang Sera - ECPv6.15.13.1//NONSGML v1.0//EN
CALSCALE:GREGORIAN
METHOD:PUBLISH
X-WR-CALNAME:NADI Pekan Padang Sera
X-ORIGINAL-URL:https://pekanpadangsera.nadi.my
X-WR-CALDESC:Events for NADI Pekan Padang Sera
REFRESH-INTERVAL;VALUE=DURATION:PT1H
X-Robots-Tag:noindex
X-PUBLISHED-TTL:PT1H
BEGIN:VTIMEZONE
TZID:UTC
BEGIN:STANDARD
TZOFFSETFROM:+0000
TZOFFSETTO:+0000
TZNAME:UTC
DTSTART:20240101T000000
END:STANDARD
END:VTIMEZONE
BEGIN:VEVENT
DTSTART;TZID=UTC:20251207T080000
DTEND;TZID=UTC:20251207T170000
DTSTAMP:20260419T192713
CREATED:20251207T095622Z
LAST-MODIFIED:20251207T095622Z
UID:5461-1765094400-1765126800@pekanpadangsera.nadi.my
SUMMARY:ESport: Kelas Kesedaran
DESCRIPTION:
URL:https://pekanpadangsera.nadi.my/event/esport-kelas-kesedaran-3/
END:VEVENT
BEGIN:VEVENT
DTSTART;TZID=UTC:20251208T080000
DTEND;TZID=UTC:20251209T170000
DTSTAMP:20260419T192713
CREATED:20251207T095711Z
LAST-MODIFIED:20251207T095711Z
UID:5463-1765180800-1765299600@pekanpadangsera.nadi.my
SUMMARY:Dilea: Open Tuition
DESCRIPTION:
URL:https://pekanpadangsera.nadi.my/event/dilea-open-tuition-2/
END:VEVENT
BEGIN:VEVENT
DTSTART;TZID=UTC:20251208T080000
DTEND;TZID=UTC:20251214T170000
DTSTAMP:20260419T192713
CREATED:20251208T014453Z
LAST-MODIFIED:20251208T014453Z
UID:5465-1765180800-1765731600@pekanpadangsera.nadi.my
SUMMARY:Dilea: VOD Sesi 19
DESCRIPTION:
URL:https://pekanpadangsera.nadi.my/event/dilea-vod-sesi-19/
END:VEVENT
BEGIN:VEVENT
DTSTART;TZID=UTC:20251213T080000
DTEND;TZID=UTC:20251213T170000
DTSTAMP:20260419T192713
CREATED:20251208T014540Z
LAST-MODIFIED:20251208T014540Z
UID:5467-1765612800-1765645200@pekanpadangsera.nadi.my
SUMMARY:Kesedaran: Webinar KIS
DESCRIPTION:
URL:https://pekanpadangsera.nadi.my/event/kesedaran-webinar-kis/
END:VEVENT
BEGIN:VEVENT
DTSTART;TZID=UTC:20251215T080000
DTEND;TZID=UTC:20251215T170000
DTSTAMP:20260419T192713
CREATED:20251208T014619Z
LAST-MODIFIED:20251208T014619Z
UID:5469-1765785600-1765818000@pekanpadangsera.nadi.my
SUMMARY:Usahawan: Podcast
DESCRIPTION:
URL:https://pekanpadangsera.nadi.my/event/usahawan-podcast/
END:VEVENT
BEGIN:VEVENT
DTSTART;TZID=UTC:20251215T080000
DTEND;TZID=UTC:20251218T170000
DTSTAMP:20260419T192713
CREATED:20251208T014643Z
LAST-MODIFIED:20251208T014643Z
UID:5471-1765785600-1766077200@pekanpadangsera.nadi.my
SUMMARY:Dilea: Open Tuition
DESCRIPTION:
URL:https://pekanpadangsera.nadi.my/event/dilea-open-tuition-3/
END:VEVENT
BEGIN:VEVENT
DTSTART;TZID=UTC:20251215T080000
DTEND;TZID=UTC:20251221T170000
DTSTAMP:20260419T192713
CREATED:20251208T014717Z
LAST-MODIFIED:20251208T014717Z
UID:5473-1765785600-1766336400@pekanpadangsera.nadi.my
SUMMARY:Dilea: English Proficiency 21
DESCRIPTION:
URL:https://pekanpadangsera.nadi.my/event/dilea-english-proficiency-21/
END:VEVENT
BEGIN:VEVENT
DTSTART;TZID=UTC:20251215T080000
DTEND;TZID=UTC:20251221T170000
DTSTAMP:20260419T192713
CREATED:20251208T014822Z
LAST-MODIFIED:20251208T014822Z
UID:5477-1765785600-1766336400@pekanpadangsera.nadi.my
SUMMARY:Kesedaran: Kuiz Siri 6
DESCRIPTION:
URL:https://pekanpadangsera.nadi.my/event/kesedaran-kuiz-siri-6/
END:VEVENT
BEGIN:VEVENT
DTSTART;TZID=UTC:20251218T080000
DTEND;TZID=UTC:20251218T170000
DTSTAMP:20260419T192713
CREATED:20251208T014746Z
LAST-MODIFIED:20251208T014746Z
UID:5475-1766044800-1766077200@pekanpadangsera.nadi.my
SUMMARY:Cybersecurity: Webinar
DESCRIPTION:
URL:https://pekanpadangsera.nadi.my/event/cybersecurity-webinar-4/
END:VEVENT
BEGIN:VEVENT
DTSTART;TZID=UTC:20251222T080000
DTEND;TZID=UTC:20251223T170000
DTSTAMP:20260419T192713
CREATED:20251208T014948Z
LAST-MODIFIED:20251208T014948Z
UID:5481-1766390400-1766509200@pekanpadangsera.nadi.my
SUMMARY:Dilea: Open Tuition
DESCRIPTION:
URL:https://pekanpadangsera.nadi.my/event/dilea-open-tuition-4/
END:VEVENT
BEGIN:VEVENT
DTSTART;TZID=UTC:20251222T080000
DTEND;TZID=UTC:20251228T170000
DTSTAMP:20260419T192713
CREATED:20251208T015027Z
LAST-MODIFIED:20251208T015043Z
UID:5483-1766390400-1766941200@pekanpadangsera.nadi.my
SUMMARY:Dilea: VOD Sesi 21
DESCRIPTION:
URL:https://pekanpadangsera.nadi.my/event/dilea-vod-sesi-21/
END:VEVENT
BEGIN:VEVENT
DTSTART;TZID=UTC:20251227T080000
DTEND;TZID=UTC:20251227T170000
DTSTAMP:20260419T192713
CREATED:20251208T015100Z
LAST-MODIFIED:20251208T015100Z
UID:5485-1766822400-1766854800@pekanpadangsera.nadi.my
SUMMARY:Dilea: Webinar
DESCRIPTION:
URL:https://pekanpadangsera.nadi.my/event/dilea-webinar/
END:VEVENT
END:VCALENDAR