BEGIN:VCALENDAR
VERSION:2.0
PRODID:-//NADI Pekan Padang Sera - ECPv6.15.13.1//NONSGML v1.0//EN
CALSCALE:GREGORIAN
METHOD:PUBLISH
X-WR-CALNAME:NADI Pekan Padang Sera
X-ORIGINAL-URL:https://pekanpadangsera.nadi.my
X-WR-CALDESC:Events for NADI Pekan Padang Sera
REFRESH-INTERVAL;VALUE=DURATION:PT1H
X-Robots-Tag:noindex
X-PUBLISHED-TTL:PT1H
BEGIN:VTIMEZONE
TZID:UTC
BEGIN:STANDARD
TZOFFSETFROM:+0000
TZOFFSETTO:+0000
TZNAME:UTC
DTSTART:20240101T000000
END:STANDARD
END:VTIMEZONE
BEGIN:VEVENT
DTSTART;TZID=UTC:20250705T150000
DTEND;TZID=UTC:20250705T160000
DTSTAMP:20260422T231922
CREATED:20250706T020329Z
LAST-MODIFIED:20250706T020329Z
UID:4423-1751727600-1751731200@pekanpadangsera.nadi.my
SUMMARY:Forum MAHIR Bersama Komuniti
DESCRIPTION:
URL:https://pekanpadangsera.nadi.my/event/forum-mahir-bersama-komuniti/
END:VEVENT
BEGIN:VEVENT
DTSTART;TZID=UTC:20250707T143000
DTEND;TZID=UTC:20250707T160000
DTSTAMP:20260422T231922
CREATED:20250706T020158Z
LAST-MODIFIED:20250706T020352Z
UID:4421-1751898600-1751904000@pekanpadangsera.nadi.my
SUMMARY:MAHIT Jahit: Tote Bag
DESCRIPTION:
URL:https://pekanpadangsera.nadi.my/event/mahit-jahit-tote-bag/
END:VEVENT
BEGIN:VEVENT
DTSTART;TZID=UTC:20250708T090000
DTEND;TZID=UTC:20250711T180000
DTSTAMP:20260422T231922
CREATED:20250706T020737Z
LAST-MODIFIED:20250706T020737Z
UID:4427-1751965200-1752256800@pekanpadangsera.nadi.my
SUMMARY:English Proficiency Lesson 12
DESCRIPTION:
URL:https://pekanpadangsera.nadi.my/event/english-proficiency-lesson-12/
END:VEVENT
BEGIN:VEVENT
DTSTART;TZID=UTC:20250710T150000
DTEND;TZID=UTC:20250710T163000
DTSTAMP:20260422T231922
CREATED:20250706T020520Z
LAST-MODIFIED:20250706T020520Z
UID:4425-1752159600-1752165000@pekanpadangsera.nadi.my
SUMMARY:Cybersecurity: Webinar Dari Serangan Siber ke Pemulihan
DESCRIPTION:
URL:https://pekanpadangsera.nadi.my/event/cybersecurity-webinar-dari-serangan-siber-ke-pemulihan/
END:VEVENT
BEGIN:VEVENT
DTSTART;TZID=UTC:20250715T090000
DTEND;TZID=UTC:20250718T180000
DTSTAMP:20260422T231922
CREATED:20250706T020812Z
LAST-MODIFIED:20250706T020812Z
UID:4429-1752570000-1752861600@pekanpadangsera.nadi.my
SUMMARY:English Proficiency Lesson 13
DESCRIPTION:
URL:https://pekanpadangsera.nadi.my/event/english-proficiency-lesson-13/
END:VEVENT
BEGIN:VEVENT
DTSTART;TZID=UTC:20250719T080000
DTEND;TZID=UTC:20250719T170000
DTSTAMP:20260422T231922
CREATED:20250706T021247Z
LAST-MODIFIED:20250706T021247Z
UID:4437-1752912000-1752944400@pekanpadangsera.nadi.my
SUMMARY:Webinar Kesedaran Fake News & Malware
DESCRIPTION:
URL:https://pekanpadangsera.nadi.my/event/webinar-kesedaran-fake-news-malware/
END:VEVENT
BEGIN:VEVENT
DTSTART;TZID=UTC:20250719T143000
DTEND;TZID=UTC:20250719T163000
DTSTAMP:20260422T231922
CREATED:20250706T020957Z
LAST-MODIFIED:20250706T020957Z
UID:4431-1752935400-1752942600@pekanpadangsera.nadi.my
SUMMARY:Dilea: Webinar Berkala English
DESCRIPTION:
URL:https://pekanpadangsera.nadi.my/event/dilea-webinar-berkala-english/
END:VEVENT
BEGIN:VEVENT
DTSTART;TZID=UTC:20250724T150000
DTEND;TZID=UTC:20250724T163000
DTSTAMP:20260422T231922
CREATED:20250706T021153Z
LAST-MODIFIED:20250706T021153Z
UID:4435-1753369200-1753374600@pekanpadangsera.nadi.my
SUMMARY:Cybersecurity: Webinar
DESCRIPTION:
URL:https://pekanpadangsera.nadi.my/event/cybersecurity-webinar/
END:VEVENT
BEGIN:VEVENT
DTSTART;TZID=UTC:20250726T143000
DTEND;TZID=UTC:20250726T163000
DTSTAMP:20260422T231922
CREATED:20250706T021035Z
LAST-MODIFIED:20250706T021035Z
UID:4433-1753540200-1753547400@pekanpadangsera.nadi.my
SUMMARY:Dilea: Webinar Berkala Bahasa Melayu
DESCRIPTION:
URL:https://pekanpadangsera.nadi.my/event/dilea-webinar-berkala-bahasa-melayu/
END:VEVENT
END:VCALENDAR