BEGIN:VCALENDAR
VERSION:2.0
PRODID:-//NADI Pekan Padang Sera - ECPv6.15.20//NONSGML v1.0//EN
CALSCALE:GREGORIAN
METHOD:PUBLISH
X-WR-CALNAME:NADI Pekan Padang Sera
X-ORIGINAL-URL:https://pekanpadangsera.nadi.my
X-WR-CALDESC:Events for NADI Pekan Padang Sera
REFRESH-INTERVAL;VALUE=DURATION:PT1H
X-Robots-Tag:noindex
X-PUBLISHED-TTL:PT1H
BEGIN:VTIMEZONE
TZID:UTC
BEGIN:STANDARD
TZOFFSETFROM:+0000
TZOFFSETTO:+0000
TZNAME:UTC
DTSTART:20240101T000000
END:STANDARD
END:VTIMEZONE
BEGIN:VEVENT
DTSTART;TZID=UTC:20250406T153000
DTEND;TZID=UTC:20250406T163000
DTSTAMP:20260425T022457
CREATED:20250405T030543Z
LAST-MODIFIED:20250405T030639Z
UID:3834-1743953400-1743957000@pekanpadangsera.nadi.my
SUMMARY:DILEA: Matematik
DESCRIPTION:
URL:https://pekanpadangsera.nadi.my/event/dilea-matematik/
END:VEVENT
BEGIN:VEVENT
DTSTART;TZID=UTC:20250407T093000
DTEND;TZID=UTC:20250407T170000
DTSTAMP:20260425T022457
CREATED:20250405T030756Z
LAST-MODIFIED:20250405T030756Z
UID:3836-1744018200-1744045200@pekanpadangsera.nadi.my
SUMMARY:MAHIR: Jahit & Gajet
DESCRIPTION:
URL:https://pekanpadangsera.nadi.my/event/mahir-jahit-gajet/
END:VEVENT
BEGIN:VEVENT
DTSTART;TZID=UTC:20250407T153000
DTEND;TZID=UTC:20250407T163000
DTSTAMP:20260425T022457
CREATED:20250405T030834Z
LAST-MODIFIED:20250405T030834Z
UID:3838-1744039800-1744043400@pekanpadangsera.nadi.my
SUMMARY:DILEA: Bahasa Melayu
DESCRIPTION:
URL:https://pekanpadangsera.nadi.my/event/dilea-bahasa-melayu/
END:VEVENT
BEGIN:VEVENT
DTSTART;TZID=UTC:20250408T093000
DTEND;TZID=UTC:20250408T170000
DTSTAMP:20260425T022457
CREATED:20250405T031718Z
LAST-MODIFIED:20250405T031858Z
UID:3840-1744104600-1744131600@pekanpadangsera.nadi.my
SUMMARY:MAHIR: Pertanian & Masak
DESCRIPTION:
URL:https://pekanpadangsera.nadi.my/event/mahir-pertanian-masak/
END:VEVENT
BEGIN:VEVENT
DTSTART;TZID=UTC:20250408T103000
DTEND;TZID=UTC:20250408T113000
DTSTAMP:20260425T022457
CREATED:20250405T032001Z
LAST-MODIFIED:20250405T032001Z
UID:3844-1744108200-1744111800@pekanpadangsera.nadi.my
SUMMARY:Wellbeing Webinar
DESCRIPTION:
URL:https://pekanpadangsera.nadi.my/event/wellbeing-webinar/
END:VEVENT
BEGIN:VEVENT
DTSTART;TZID=UTC:20250408T153000
DTEND;TZID=UTC:20250408T163000
DTSTAMP:20260425T022457
CREATED:20250405T031812Z
LAST-MODIFIED:20250405T031812Z
UID:3842-1744126200-1744129800@pekanpadangsera.nadi.my
SUMMARY:DILEA: Sejarah
DESCRIPTION:
URL:https://pekanpadangsera.nadi.my/event/dilea-sejarah/
END:VEVENT
BEGIN:VEVENT
DTSTART;TZID=UTC:20250409T093000
DTEND;TZID=UTC:20250409T170000
DTSTAMP:20260425T022457
CREATED:20250405T032058Z
LAST-MODIFIED:20250405T032058Z
UID:3846-1744191000-1744218000@pekanpadangsera.nadi.my
SUMMARY:MAHIR: Masak & Pertanian
DESCRIPTION:
URL:https://pekanpadangsera.nadi.my/event/mahir-masak-pertanian/
END:VEVENT
BEGIN:VEVENT
DTSTART;TZID=UTC:20250410T093000
DTEND;TZID=UTC:20250410T170000
DTSTAMP:20260425T022457
CREATED:20250405T033134Z
LAST-MODIFIED:20250405T033134Z
UID:3849-1744277400-1744304400@pekanpadangsera.nadi.my
SUMMARY:MAHIR: Jahit & Gajet
DESCRIPTION:
URL:https://pekanpadangsera.nadi.my/event/mahir-jahit-gajet-2/
END:VEVENT
BEGIN:VEVENT
DTSTART;TZID=UTC:20250411T093000
DTEND;TZID=UTC:20250411T170000
DTSTAMP:20260425T022457
CREATED:20250405T033239Z
LAST-MODIFIED:20250405T033239Z
UID:3851-1744363800-1744390800@pekanpadangsera.nadi.my
SUMMARY:MAHIR: Masak\, Pertanian & Jahit
DESCRIPTION:
URL:https://pekanpadangsera.nadi.my/event/mahir-masak-pertanian-jahit/
END:VEVENT
BEGIN:VEVENT
DTSTART;TZID=UTC:20250411T103000
DTEND;TZID=UTC:20250411T233000
DTSTAMP:20260425T022457
CREATED:20250405T033317Z
LAST-MODIFIED:20250405T033317Z
UID:3853-1744367400-1744414200@pekanpadangsera.nadi.my
SUMMARY:Wellbeing Webinar
DESCRIPTION:
URL:https://pekanpadangsera.nadi.my/event/wellbeing-webinar-2/
END:VEVENT
BEGIN:VEVENT
DTSTART;TZID=UTC:20250412T080000
DTEND;TZID=UTC:20250412T170000
DTSTAMP:20260425T022457
CREATED:20250405T033352Z
LAST-MODIFIED:20250405T033352Z
UID:3855-1744444800-1744477200@pekanpadangsera.nadi.my
SUMMARY:eSport: Kesedaran
DESCRIPTION:
URL:https://pekanpadangsera.nadi.my/event/esport-kesedaran/
END:VEVENT
BEGIN:VEVENT
DTSTART;TZID=UTC:20250412T093000
DTEND;TZID=UTC:20250412T170000
DTSTAMP:20260425T022457
CREATED:20250405T033423Z
LAST-MODIFIED:20250405T033423Z
UID:3857-1744450200-1744477200@pekanpadangsera.nadi.my
SUMMARY:MAHIR: Masak\, Jahit\, Foto & Gajet
DESCRIPTION:
URL:https://pekanpadangsera.nadi.my/event/mahir-masak-jahit-foto-gajet/
END:VEVENT
BEGIN:VEVENT
DTSTART;TZID=UTC:20250413T093000
DTEND;TZID=UTC:20250413T170000
DTSTAMP:20260425T022457
CREATED:20250405T033502Z
LAST-MODIFIED:20250405T033502Z
UID:3859-1744536600-1744563600@pekanpadangsera.nadi.my
SUMMARY:MAHIR: Masak & Pertanian
DESCRIPTION:
URL:https://pekanpadangsera.nadi.my/event/mahir-masak-pertanian-2/
END:VEVENT
BEGIN:VEVENT
DTSTART;TZID=UTC:20250414T093000
DTEND;TZID=UTC:20250414T170000
DTSTAMP:20260425T022457
CREATED:20250405T033733Z
LAST-MODIFIED:20250405T033733Z
UID:3861-1744623000-1744650000@pekanpadangsera.nadi.my
SUMMARY:MAHIR: Foto\, Gajet & Jahit
DESCRIPTION:
URL:https://pekanpadangsera.nadi.my/event/mahir-foto-gajet-jahit/
END:VEVENT
BEGIN:VEVENT
DTSTART;TZID=UTC:20250415T093000
DTEND;TZID=UTC:20250415T170000
DTSTAMP:20260425T022457
CREATED:20250405T033851Z
LAST-MODIFIED:20250405T033851Z
UID:3863-1744709400-1744736400@pekanpadangsera.nadi.my
SUMMARY:MAHIR: Masak\, Gajet\, Jahit
DESCRIPTION:
URL:https://pekanpadangsera.nadi.my/event/mahir-masak-gajet-jahit/
END:VEVENT
BEGIN:VEVENT
DTSTART;TZID=UTC:20250415T103000
DTEND;TZID=UTC:20250415T170000
DTSTAMP:20260425T022457
CREATED:20250405T033954Z
LAST-MODIFIED:20250405T033954Z
UID:3866-1744713000-1744736400@pekanpadangsera.nadi.my
SUMMARY:Wellbeing Webinar
DESCRIPTION:
URL:https://pekanpadangsera.nadi.my/event/wellbeing-webinar-3/
END:VEVENT
BEGIN:VEVENT
DTSTART;TZID=UTC:20250416T093000
DTEND;TZID=UTC:20250416T170000
DTSTAMP:20260425T022457
CREATED:20250405T034814Z
LAST-MODIFIED:20250405T034814Z
UID:3869-1744795800-1744822800@pekanpadangsera.nadi.my
SUMMARY:MAHIR: Pertanian\, Masak & Foto
DESCRIPTION:
URL:https://pekanpadangsera.nadi.my/event/mahir-pertanian-masak-foto/
END:VEVENT
BEGIN:VEVENT
DTSTART;TZID=UTC:20250417T080000
DTEND;TZID=UTC:20250417T170000
DTSTAMP:20260425T022457
CREATED:20250405T035049Z
LAST-MODIFIED:20250405T035049Z
UID:3871-1744876800-1744909200@pekanpadangsera.nadi.my
SUMMARY:MAHIR: Foto\, Jahit & Gajet
DESCRIPTION:
URL:https://pekanpadangsera.nadi.my/event/mahir-foto-jahit-gajet/
END:VEVENT
BEGIN:VEVENT
DTSTART;TZID=UTC:20250417T100000
DTEND;TZID=UTC:20250417T110000
DTSTAMP:20260425T022457
CREATED:20250405T035236Z
LAST-MODIFIED:20250405T035236Z
UID:3873-1744884000-1744887600@pekanpadangsera.nadi.my
SUMMARY:Webinar Usahawan COHORT 2
DESCRIPTION:
URL:https://pekanpadangsera.nadi.my/event/webinar-usahawan-cohort-2/
END:VEVENT
BEGIN:VEVENT
DTSTART;TZID=UTC:20250419T080000
DTEND;TZID=UTC:20250419T170000
DTSTAMP:20260425T022457
CREATED:20250405T035323Z
LAST-MODIFIED:20250405T035323Z
UID:3875-1745049600-1745082000@pekanpadangsera.nadi.my
SUMMARY:eSport: Kesedaran
DESCRIPTION:
URL:https://pekanpadangsera.nadi.my/event/esport-kesedaran-2/
END:VEVENT
BEGIN:VEVENT
DTSTART;TZID=UTC:20250419T093000
DTEND;TZID=UTC:20250419T170000
DTSTAMP:20260425T022457
CREATED:20250405T035402Z
LAST-MODIFIED:20250405T035402Z
UID:3877-1745055000-1745082000@pekanpadangsera.nadi.my
SUMMARY:MAHIR: Masak\, Gajet\, Pertanian & Jahit
DESCRIPTION:
URL:https://pekanpadangsera.nadi.my/event/mahir-masak-gajet-pertanian-jahit/
END:VEVENT
BEGIN:VEVENT
DTSTART;TZID=UTC:20250420T093000
DTEND;TZID=UTC:20250420T170000
DTSTAMP:20260425T022457
CREATED:20250405T035612Z
LAST-MODIFIED:20250405T035612Z
UID:3879-1745141400-1745168400@pekanpadangsera.nadi.my
SUMMARY:MAHIR: Pertanian\, Masak & Foto
DESCRIPTION:
URL:https://pekanpadangsera.nadi.my/event/mahir-pertanian-masak-foto-2/
END:VEVENT
BEGIN:VEVENT
DTSTART;TZID=UTC:20250421T093000
DTEND;TZID=UTC:20250421T170000
DTSTAMP:20260425T022457
CREATED:20250405T035640Z
LAST-MODIFIED:20250405T035640Z
UID:3881-1745227800-1745254800@pekanpadangsera.nadi.my
SUMMARY:MAHIR: Jahit & Gajet
DESCRIPTION:
URL:https://pekanpadangsera.nadi.my/event/mahir-jahit-gajet-3/
END:VEVENT
BEGIN:VEVENT
DTSTART;TZID=UTC:20250422T093000
DTEND;TZID=UTC:20250422T170000
DTSTAMP:20260425T022457
CREATED:20250405T035750Z
LAST-MODIFIED:20250405T035750Z
UID:3883-1745314200-1745341200@pekanpadangsera.nadi.my
SUMMARY:MAHIR: Masak\, Gajet & Jahit
DESCRIPTION:
URL:https://pekanpadangsera.nadi.my/event/mahir-masak-gajet-jahit-2/
END:VEVENT
BEGIN:VEVENT
DTSTART;TZID=UTC:20250423T080000
DTEND;TZID=UTC:20250423T170000
DTSTAMP:20260425T022457
CREATED:20250405T035940Z
LAST-MODIFIED:20250405T035940Z
UID:3885-1745395200-1745427600@pekanpadangsera.nadi.my
SUMMARY:MAHIR: Pertanian & Masak
DESCRIPTION:
URL:https://pekanpadangsera.nadi.my/event/mahir-pertanian-masak-2/
END:VEVENT
BEGIN:VEVENT
DTSTART;TZID=UTC:20250424T093000
DTEND;TZID=UTC:20250424T103000
DTSTAMP:20260425T022457
CREATED:20250405T040031Z
LAST-MODIFIED:20250405T040031Z
UID:3887-1745487000-1745490600@pekanpadangsera.nadi.my
SUMMARY:MAHIR: Jahit
DESCRIPTION:
URL:https://pekanpadangsera.nadi.my/event/mahir-jahit/
END:VEVENT
BEGIN:VEVENT
DTSTART;TZID=UTC:20250425T080000
DTEND;TZID=UTC:20250425T170000
DTSTAMP:20260425T022457
CREATED:20250405T040635Z
LAST-MODIFIED:20250405T040635Z
UID:3891-1745568000-1745600400@pekanpadangsera.nadi.my
SUMMARY:eSport: Kelas Pensijilan
DESCRIPTION:
URL:https://pekanpadangsera.nadi.my/event/esport-kelas-pensijilan/
END:VEVENT
BEGIN:VEVENT
DTSTART;TZID=UTC:20250425T093000
DTEND;TZID=UTC:20250425T170000
DTSTAMP:20260425T022457
CREATED:20250405T040609Z
LAST-MODIFIED:20250405T040609Z
UID:3889-1745573400-1745600400@pekanpadangsera.nadi.my
SUMMARY:MAHIR: Masak\, Pertanian & Jahit
DESCRIPTION:
URL:https://pekanpadangsera.nadi.my/event/mahir-masak-pertanian-jahit-2/
END:VEVENT
BEGIN:VEVENT
DTSTART;TZID=UTC:20250427T093000
DTEND;TZID=UTC:20250427T170000
DTSTAMP:20260425T022457
CREATED:20250405T041047Z
LAST-MODIFIED:20250405T041047Z
UID:3893-1745746200-1745773200@pekanpadangsera.nadi.my
SUMMARY:MAHIR: Pertanian & Masak
DESCRIPTION:
URL:https://pekanpadangsera.nadi.my/event/mahir-pertanian-masak-3/
END:VEVENT
BEGIN:VEVENT
DTSTART;TZID=UTC:20250428T093000
DTEND;TZID=UTC:20250428T170000
DTSTAMP:20260425T022457
CREATED:20250405T041120Z
LAST-MODIFIED:20250405T041120Z
UID:3895-1745832600-1745859600@pekanpadangsera.nadi.my
SUMMARY:MAHIR: Jahit & Gajet
DESCRIPTION:
URL:https://pekanpadangsera.nadi.my/event/mahir-jahit-gajet-4/
END:VEVENT
END:VCALENDAR