BEGIN:VCALENDAR
VERSION:2.0
PRODID:-//NADI Pekan Padang Sera - ECPv6.15.13.1//NONSGML v1.0//EN
CALSCALE:GREGORIAN
METHOD:PUBLISH
X-ORIGINAL-URL:https://pekanpadangsera.nadi.my
X-WR-CALDESC:Events for NADI Pekan Padang Sera
REFRESH-INTERVAL;VALUE=DURATION:PT1H
X-Robots-Tag:noindex
X-PUBLISHED-TTL:PT1H
BEGIN:VTIMEZONE
TZID:UTC
BEGIN:STANDARD
TZOFFSETFROM:+0000
TZOFFSETTO:+0000
TZNAME:UTC
DTSTART:20240101T000000
END:STANDARD
END:VTIMEZONE
BEGIN:VEVENT
DTSTART;TZID=UTC:20250707T143000
DTEND;TZID=UTC:20250707T160000
DTSTAMP:20260419T231019
CREATED:20250706T020158Z
LAST-MODIFIED:20250706T020352Z
UID:4421-1751898600-1751904000@pekanpadangsera.nadi.my
SUMMARY:MAHIT Jahit: Tote Bag
DESCRIPTION:
URL:https://pekanpadangsera.nadi.my/event/mahit-jahit-tote-bag/
END:VEVENT
BEGIN:VEVENT
DTSTART;TZID=UTC:20250705T150000
DTEND;TZID=UTC:20250705T160000
DTSTAMP:20260419T231019
CREATED:20250706T020329Z
LAST-MODIFIED:20250706T020329Z
UID:4423-1751727600-1751731200@pekanpadangsera.nadi.my
SUMMARY:Forum MAHIR Bersama Komuniti
DESCRIPTION:
URL:https://pekanpadangsera.nadi.my/event/forum-mahir-bersama-komuniti/
END:VEVENT
BEGIN:VEVENT
DTSTART;TZID=UTC:20250626T140000
DTEND;TZID=UTC:20250626T150000
DTSTAMP:20260419T231019
CREATED:20250625T094223Z
LAST-MODIFIED:20250625T094256Z
UID:4365-1750946400-1750950000@pekanpadangsera.nadi.my
SUMMARY:EKelas Keusahawanan
DESCRIPTION:
URL:https://pekanpadangsera.nadi.my/event/ekelas-keusahawanan-2/
END:VEVENT
BEGIN:VEVENT
DTSTART;TZID=UTC:20250626T080000
DTEND;TZID=UTC:20250626T170000
DTSTAMP:20260419T231019
CREATED:20250625T094057Z
LAST-MODIFIED:20250625T094057Z
UID:4362-1750924800-1750957200@pekanpadangsera.nadi.my
SUMMARY:EKelas Keusahawanan
DESCRIPTION:
URL:https://pekanpadangsera.nadi.my/event/ekelas-keusahawanan/
END:VEVENT
BEGIN:VEVENT
DTSTART;TZID=UTC:20250531T080000
DTEND;TZID=UTC:20250531T170000
DTSTAMP:20260419T231019
CREATED:20250504T031656Z
LAST-MODIFIED:20250504T031656Z
UID:4137-1748678400-1748710800@pekanpadangsera.nadi.my
SUMMARY:Wellbeing Exercise
DESCRIPTION:
URL:https://pekanpadangsera.nadi.my/event/wellbeing-exercise/
END:VEVENT
BEGIN:VEVENT
DTSTART;TZID=UTC:20250530T080000
DTEND;TZID=UTC:20250530T170000
DTSTAMP:20260419T231019
CREATED:20250504T031642Z
LAST-MODIFIED:20250504T031642Z
UID:4135-1748592000-1748624400@pekanpadangsera.nadi.my
SUMMARY:Wellbeing Webinar
DESCRIPTION:
URL:https://pekanpadangsera.nadi.my/event/wellbeing-webinar-12/
END:VEVENT
BEGIN:VEVENT
DTSTART;TZID=UTC:20250527T080000
DTEND;TZID=UTC:20250527T170000
DTSTAMP:20260419T231019
CREATED:20250504T031620Z
LAST-MODIFIED:20250504T031620Z
UID:4133-1748332800-1748365200@pekanpadangsera.nadi.my
SUMMARY:Podcast Prenuer
DESCRIPTION:
URL:https://pekanpadangsera.nadi.my/event/podcast-prenuer/
END:VEVENT
BEGIN:VEVENT
DTSTART;TZID=UTC:20250527T080000
DTEND;TZID=UTC:20250527T170000
DTSTAMP:20260419T231019
CREATED:20250504T031553Z
LAST-MODIFIED:20250504T031553Z
UID:4131-1748332800-1748365200@pekanpadangsera.nadi.my
SUMMARY:Wellbeing Webinar
DESCRIPTION:
URL:https://pekanpadangsera.nadi.my/event/wellbeing-webinar-11/
END:VEVENT
BEGIN:VEVENT
DTSTART;TZID=UTC:20250525T080000
DTEND;TZID=UTC:20250525T170000
DTSTAMP:20260419T231019
CREATED:20250504T031500Z
LAST-MODIFIED:20250504T031500Z
UID:4127-1748160000-1748192400@pekanpadangsera.nadi.my
SUMMARY:Dilea - English Proficiency
DESCRIPTION:
URL:https://pekanpadangsera.nadi.my/event/dilea-english-proficiency-3/
END:VEVENT
BEGIN:VEVENT
DTSTART;TZID=UTC:20250524T080000
DTEND;TZID=UTC:20250524T170000
DTSTAMP:20260419T231019
CREATED:20250504T031527Z
LAST-MODIFIED:20250504T031527Z
UID:4129-1748073600-1748106000@pekanpadangsera.nadi.my
SUMMARY:Webinar Kidventure
DESCRIPTION:
URL:https://pekanpadangsera.nadi.my/event/webinar-kidventure-2/
END:VEVENT
BEGIN:VEVENT
DTSTART;TZID=UTC:20250524T080000
DTEND;TZID=UTC:20250524T170000
DTSTAMP:20260419T231019
CREATED:20250504T031435Z
LAST-MODIFIED:20250504T031435Z
UID:4125-1748073600-1748106000@pekanpadangsera.nadi.my
SUMMARY:Dilea - Webinar Bahasa
DESCRIPTION:
URL:https://pekanpadangsera.nadi.my/event/dilea-webinar-bahasa/
END:VEVENT
BEGIN:VEVENT
DTSTART;TZID=UTC:20250523T080000
DTEND;TZID=UTC:20250523T170000
DTSTAMP:20260419T231019
CREATED:20250504T031408Z
LAST-MODIFIED:20250504T031408Z
UID:4123-1747987200-1748019600@pekanpadangsera.nadi.my
SUMMARY:Wellbeing Webinar
DESCRIPTION:
URL:https://pekanpadangsera.nadi.my/event/wellbeing-webinar-10/
END:VEVENT
BEGIN:VEVENT
DTSTART;TZID=UTC:20250521T080000
DTEND;TZID=UTC:20250521T170000
DTSTAMP:20260419T231019
CREATED:20250504T031322Z
LAST-MODIFIED:20250504T031322Z
UID:4121-1747814400-1747846800@pekanpadangsera.nadi.my
SUMMARY:Dilea - Podcast
DESCRIPTION:
URL:https://pekanpadangsera.nadi.my/event/dilea-podcast/
END:VEVENT
BEGIN:VEVENT
DTSTART;TZID=UTC:20250520T080000
DTEND;TZID=UTC:20250520T170000
DTSTAMP:20260419T231019
CREATED:20250504T031255Z
LAST-MODIFIED:20250504T031255Z
UID:4119-1747728000-1747760400@pekanpadangsera.nadi.my
SUMMARY:Wellbeing Webinar
DESCRIPTION:
URL:https://pekanpadangsera.nadi.my/event/wellbeing-webinar-9/
END:VEVENT
BEGIN:VEVENT
DTSTART;TZID=UTC:20250518T080000
DTEND;TZID=UTC:20250518T170000
DTSTAMP:20260419T231019
CREATED:20250504T031218Z
LAST-MODIFIED:20250504T031231Z
UID:4117-1747555200-1747587600@pekanpadangsera.nadi.my
SUMMARY:Dilea - English Proficiency
DESCRIPTION:
URL:https://pekanpadangsera.nadi.my/event/dilea-english-proficiency-2/
END:VEVENT
BEGIN:VEVENT
DTSTART;TZID=UTC:20250517T080000
DTEND;TZID=UTC:20250517T170000
DTSTAMP:20260419T231019
CREATED:20250504T031151Z
LAST-MODIFIED:20250504T031151Z
UID:4115-1747468800-1747501200@pekanpadangsera.nadi.my
SUMMARY:Webinar Kidventure
DESCRIPTION:
URL:https://pekanpadangsera.nadi.my/event/webinar-kidventure/
END:VEVENT
BEGIN:VEVENT
DTSTART;TZID=UTC:20250517T080000
DTEND;TZID=UTC:20250517T170000
DTSTAMP:20260419T231019
CREATED:20250504T031130Z
LAST-MODIFIED:20250504T031130Z
UID:4113-1747468800-1747501200@pekanpadangsera.nadi.my
SUMMARY:Webinar Cybersecurity
DESCRIPTION:
URL:https://pekanpadangsera.nadi.my/event/webinar-cybersecurity-3/
END:VEVENT
BEGIN:VEVENT
DTSTART;TZID=UTC:20250516T080000
DTEND;TZID=UTC:20250516T170000
DTSTAMP:20260419T231019
CREATED:20250504T031108Z
LAST-MODIFIED:20250504T031108Z
UID:4111-1747382400-1747414800@pekanpadangsera.nadi.my
SUMMARY:Wellbeing Webinar
DESCRIPTION:
URL:https://pekanpadangsera.nadi.my/event/wellbeing-webinar-8/
END:VEVENT
BEGIN:VEVENT
DTSTART;TZID=UTC:20250515T080000
DTEND;TZID=UTC:20250515T170000
DTSTAMP:20260419T231019
CREATED:20250504T031037Z
LAST-MODIFIED:20250504T031037Z
UID:4109-1747296000-1747328400@pekanpadangsera.nadi.my
SUMMARY:Webinar Cohort 3
DESCRIPTION:
URL:https://pekanpadangsera.nadi.my/event/webinar-cohort-3/
END:VEVENT
BEGIN:VEVENT
DTSTART;TZID=UTC:20250514T080000
DTEND;TZID=UTC:20250514T170000
DTSTAMP:20260419T231019
CREATED:20250504T030722Z
LAST-MODIFIED:20250504T030722Z
UID:4107-1747209600-1747242000@pekanpadangsera.nadi.my
SUMMARY:Bootcamp Keusahawanan
DESCRIPTION:
URL:https://pekanpadangsera.nadi.my/event/bootcamp-keusahawanan/
END:VEVENT
BEGIN:VEVENT
DTSTART;TZID=UTC:20250513T080000
DTEND;TZID=UTC:20250513T170000
DTSTAMP:20260419T231019
CREATED:20250504T030659Z
LAST-MODIFIED:20250504T030659Z
UID:4105-1747123200-1747155600@pekanpadangsera.nadi.my
SUMMARY:NADI X Kesedaran
DESCRIPTION:
URL:https://pekanpadangsera.nadi.my/event/nadi-x-kesedaran/
END:VEVENT
BEGIN:VEVENT
DTSTART;TZID=UTC:20250513T080000
DTEND;TZID=UTC:20250513T170000
DTSTAMP:20260419T231019
CREATED:20250504T030635Z
LAST-MODIFIED:20250504T030635Z
UID:4103-1747123200-1747155600@pekanpadangsera.nadi.my
SUMMARY:Wellbeing Webinar
DESCRIPTION:
URL:https://pekanpadangsera.nadi.my/event/wellbeing-webinar-7/
END:VEVENT
BEGIN:VEVENT
DTSTART;TZID=UTC:20250511T080000
DTEND;TZID=UTC:20250511T170000
DTSTAMP:20260419T231019
CREATED:20250504T030552Z
LAST-MODIFIED:20250504T030552Z
UID:4101-1746950400-1746982800@pekanpadangsera.nadi.my
SUMMARY:Dilea - English Proficiency
DESCRIPTION:
URL:https://pekanpadangsera.nadi.my/event/dilea-english-proficiency/
END:VEVENT
BEGIN:VEVENT
DTSTART;TZID=UTC:20250510T080000
DTEND;TZID=UTC:20250510T170000
DTSTAMP:20260419T231019
CREATED:20250504T025408Z
LAST-MODIFIED:20250504T025408Z
UID:4098-1746864000-1746896400@pekanpadangsera.nadi.my
SUMMARY:Dilea - BM\, BI\, SEJ & MAT
DESCRIPTION:
URL:https://pekanpadangsera.nadi.my/event/dilea-bm-bi-sej-mat/
END:VEVENT
BEGIN:VEVENT
DTSTART;TZID=UTC:20250510T080000
DTEND;TZID=UTC:20250510T170000
DTSTAMP:20260419T231019
CREATED:20250504T025327Z
LAST-MODIFIED:20250504T025327Z
UID:4096-1746864000-1746896400@pekanpadangsera.nadi.my
SUMMARY:Webinar Cybersecurity
DESCRIPTION:
URL:https://pekanpadangsera.nadi.my/event/webinar-cybersecurity-2/
END:VEVENT
BEGIN:VEVENT
DTSTART;TZID=UTC:20250509T080000
DTEND;TZID=UTC:20250509T170000
DTSTAMP:20260419T231019
CREATED:20250504T025253Z
LAST-MODIFIED:20250504T025253Z
UID:4094-1746777600-1746810000@pekanpadangsera.nadi.my
SUMMARY:Wellbeing Webinar
DESCRIPTION:
URL:https://pekanpadangsera.nadi.my/event/wellbeing-webinar-6/
END:VEVENT
BEGIN:VEVENT
DTSTART;TZID=UTC:20250508T080000
DTEND;TZID=UTC:20250508T170000
DTSTAMP:20260419T231019
CREATED:20250504T025217Z
LAST-MODIFIED:20250504T025217Z
UID:4092-1746691200-1746723600@pekanpadangsera.nadi.my
SUMMARY:Dilea - Bahasa Inggeris
DESCRIPTION:
URL:https://pekanpadangsera.nadi.my/event/dilea-bahasa-inggeris/
END:VEVENT
BEGIN:VEVENT
DTSTART;TZID=UTC:20250506T080000
DTEND;TZID=UTC:20250506T170000
DTSTAMP:20260419T231019
CREATED:20250504T025146Z
LAST-MODIFIED:20250504T025146Z
UID:4090-1746518400-1746550800@pekanpadangsera.nadi.my
SUMMARY:Dilea - Sejarah
DESCRIPTION:
URL:https://pekanpadangsera.nadi.my/event/dilea-sejarah-2/
END:VEVENT
BEGIN:VEVENT
DTSTART;TZID=UTC:20250506T080000
DTEND;TZID=UTC:20250506T170000
DTSTAMP:20260419T231019
CREATED:20250504T025019Z
LAST-MODIFIED:20250504T025019Z
UID:4088-1746518400-1746550800@pekanpadangsera.nadi.my
SUMMARY:Wellbeing Webinar
DESCRIPTION:
URL:https://pekanpadangsera.nadi.my/event/wellbeing-webinar-5/
END:VEVENT
BEGIN:VEVENT
DTSTART;TZID=UTC:20250505T080000
DTEND;TZID=UTC:20250505T170000
DTSTAMP:20260419T231019
CREATED:20250504T024958Z
LAST-MODIFIED:20250504T024958Z
UID:4086-1746432000-1746464400@pekanpadangsera.nadi.my
SUMMARY:Dilea - Bahasa Melayu
DESCRIPTION:
URL:https://pekanpadangsera.nadi.my/event/dilea-bahasa-melayu-2/
END:VEVENT
END:VCALENDAR