BEGIN:VCALENDAR
VERSION:2.0
PRODID:-//NADI Pekan Padang Sera - ECPv6.15.13.1//NONSGML v1.0//EN
CALSCALE:GREGORIAN
METHOD:PUBLISH
X-WR-CALNAME:NADI Pekan Padang Sera
X-ORIGINAL-URL:https://pekanpadangsera.nadi.my
X-WR-CALDESC:Events for NADI Pekan Padang Sera
REFRESH-INTERVAL;VALUE=DURATION:PT1H
X-Robots-Tag:noindex
X-PUBLISHED-TTL:PT1H
BEGIN:VTIMEZONE
TZID:UTC
BEGIN:STANDARD
TZOFFSETFROM:+0000
TZOFFSETTO:+0000
TZNAME:UTC
DTSTART:20240101T000000
END:STANDARD
END:VTIMEZONE
BEGIN:VEVENT
DTSTART;TZID=UTC:20251118T080000
DTEND;TZID=UTC:20251118T170000
DTSTAMP:20260422T010947
CREATED:20251103T030433Z
LAST-MODIFIED:20251103T030433Z
UID:5276-1763452800-1763485200@pekanpadangsera.nadi.my
SUMMARY:Ekelas: Modul 3 & 4
DESCRIPTION:
URL:https://pekanpadangsera.nadi.my/event/ekelas-modul-3-4-5/
END:VEVENT
END:VCALENDAR