BEGIN:VCALENDAR
VERSION:2.0
PRODID:-//NADI Pekan Padang Sera - ECPv6.15.20//NONSGML v1.0//EN
CALSCALE:GREGORIAN
METHOD:PUBLISH
X-WR-CALNAME:NADI Pekan Padang Sera
X-ORIGINAL-URL:https://pekanpadangsera.nadi.my
X-WR-CALDESC:Events for NADI Pekan Padang Sera
REFRESH-INTERVAL;VALUE=DURATION:PT1H
X-Robots-Tag:noindex
X-PUBLISHED-TTL:PT1H
BEGIN:VTIMEZONE
TZID:UTC
BEGIN:STANDARD
TZOFFSETFROM:+0000
TZOFFSETTO:+0000
TZNAME:UTC
DTSTART:20240101T000000
END:STANDARD
END:VTIMEZONE
BEGIN:VEVENT
DTSTART;TZID=UTC:20251103T080000
DTEND;TZID=UTC:20251109T170000
DTSTAMP:20260424T075336
CREATED:20251103T030241Z
LAST-MODIFIED:20251103T030241Z
UID:5272-1762156800-1762707600@pekanpadangsera.nadi.my
SUMMARY:Dilea: English Proficiency Lesson 18
DESCRIPTION:
URL:https://pekanpadangsera.nadi.my/event/dilea-english-proficiency-lesson-18/
END:VEVENT
BEGIN:VEVENT
DTSTART;TZID=UTC:20251108T080000
DTEND;TZID=UTC:20251108T170000
DTSTAMP:20260424T075336
CREATED:20251103T030542Z
LAST-MODIFIED:20251103T030542Z
UID:5279-1762588800-1762621200@pekanpadangsera.nadi.my
SUMMARY:Tiny Techies: Sumo Robot Workshop Session 4
DESCRIPTION:
URL:https://pekanpadangsera.nadi.my/event/tiny-techies-sumo-robot-workshop-session-4/
END:VEVENT
BEGIN:VEVENT
DTSTART;TZID=UTC:20251108T080000
DTEND;TZID=UTC:20251108T170000
DTSTAMP:20260424T075336
CREATED:20251103T030621Z
LAST-MODIFIED:20251103T030621Z
UID:5281-1762588800-1762621200@pekanpadangsera.nadi.my
SUMMARY:Tiny Techies: IoT Innovation Workshop Session 4
DESCRIPTION:
URL:https://pekanpadangsera.nadi.my/event/tiny-techies-iot-innovation-workshop-session-4/
END:VEVENT
BEGIN:VEVENT
DTSTART;TZID=UTC:20251108T080000
DTEND;TZID=UTC:20251108T170000
DTSTAMP:20260424T075336
CREATED:20251103T030809Z
LAST-MODIFIED:20251103T030809Z
UID:5285-1762588800-1762621200@pekanpadangsera.nadi.my
SUMMARY:Kesedaran: Kecerdasan Buatan\,Apa Yang Perlu Anda Tahu
DESCRIPTION:
URL:https://pekanpadangsera.nadi.my/event/kesedaran-kecerdasan-buatanapa-yang-perlu-anda-tahu/
END:VEVENT
END:VCALENDAR