BEGIN:VCALENDAR
VERSION:2.0
PRODID:-//NADI Pekan Padang Sera - ECPv6.15.13.1//NONSGML v1.0//EN
CALSCALE:GREGORIAN
METHOD:PUBLISH
X-WR-CALNAME:NADI Pekan Padang Sera
X-ORIGINAL-URL:https://pekanpadangsera.nadi.my
X-WR-CALDESC:Events for NADI Pekan Padang Sera
REFRESH-INTERVAL;VALUE=DURATION:PT1H
X-Robots-Tag:noindex
X-PUBLISHED-TTL:PT1H
BEGIN:VTIMEZONE
TZID:UTC
BEGIN:STANDARD
TZOFFSETFROM:+0000
TZOFFSETTO:+0000
TZNAME:UTC
DTSTART:20240101T000000
END:STANDARD
END:VTIMEZONE
BEGIN:VEVENT
DTSTART;TZID=UTC:20251021T080000
DTEND;TZID=UTC:20251026T170000
DTSTAMP:20260421T044703
CREATED:20251019T033358Z
LAST-MODIFIED:20251019T033358Z
UID:5135-1761033600-1761498000@pekanpadangsera.nadi.my
SUMMARY:Dilea: English Proficiency Lesson 17
DESCRIPTION:
URL:https://pekanpadangsera.nadi.my/event/dilea-english-proficiency-lesson-17/
END:VEVENT
BEGIN:VEVENT
DTSTART;TZID=UTC:20251025T080000
DTEND;TZID=UTC:20251025T170000
DTSTAMP:20260421T044703
CREATED:20251019T033304Z
LAST-MODIFIED:20251019T033304Z
UID:5133-1761379200-1761411600@pekanpadangsera.nadi.my
SUMMARY:Kidventure Cohort 7: Webinar Perancangan Kewangan
DESCRIPTION:
URL:https://pekanpadangsera.nadi.my/event/kidventure-cohort-7-webinar-perancangan-kewangan/
END:VEVENT
END:VCALENDAR