BEGIN:VCALENDAR
VERSION:2.0
PRODID:-//NADI Pekan Padang Sera - ECPv6.15.13.1//NONSGML v1.0//EN
CALSCALE:GREGORIAN
METHOD:PUBLISH
X-WR-CALNAME:NADI Pekan Padang Sera
X-ORIGINAL-URL:https://pekanpadangsera.nadi.my
X-WR-CALDESC:Events for NADI Pekan Padang Sera
REFRESH-INTERVAL;VALUE=DURATION:PT1H
X-Robots-Tag:noindex
X-PUBLISHED-TTL:PT1H
BEGIN:VTIMEZONE
TZID:UTC
BEGIN:STANDARD
TZOFFSETFROM:+0000
TZOFFSETTO:+0000
TZNAME:UTC
DTSTART:20240101T000000
END:STANDARD
END:VTIMEZONE
BEGIN:VEVENT
DTSTART;TZID=UTC:20250808T080000
DTEND;TZID=UTC:20250910T170000
DTSTAMP:20260423T022715
CREATED:20250727T061033Z
LAST-MODIFIED:20250727T061033Z
UID:4574-1754640000-1757523600@pekanpadangsera.nadi.my
SUMMARY:Esport: Kelas Kesedaran
DESCRIPTION:
URL:https://pekanpadangsera.nadi.my/event/esport-kelas-kesedaran/
END:VEVENT
BEGIN:VEVENT
DTSTART;TZID=UTC:20250819T080000
DTEND;TZID=UTC:20250819T170000
DTSTAMP:20260423T022715
CREATED:20250727T060305Z
LAST-MODIFIED:20250727T060305Z
UID:4566-1755590400-1755622800@pekanpadangsera.nadi.my
SUMMARY:Cohort 4: Podcast Her - Wanita Bijak Mendominasi
DESCRIPTION:
URL:https://pekanpadangsera.nadi.my/event/cohort-4-podcast-her-wanita-bijak-mendominasi/
END:VEVENT
BEGIN:VEVENT
DTSTART;TZID=UTC:20250819T080000
DTEND;TZID=UTC:20250821T170000
DTSTAMP:20260423T022715
CREATED:20250727T062835Z
LAST-MODIFIED:20250727T062835Z
UID:4610-1755590400-1755795600@pekanpadangsera.nadi.my
SUMMARY:Tiny Techies: Regional Bootcamps & Competitions - Northern
DESCRIPTION:
URL:https://pekanpadangsera.nadi.my/event/tiny-techies-regional-bootcamps-competitions-northern/
END:VEVENT
END:VCALENDAR