BEGIN:VCALENDAR
VERSION:2.0
PRODID:-//NADI Pekan Padang Sera - ECPv6.15.13.1//NONSGML v1.0//EN
CALSCALE:GREGORIAN
METHOD:PUBLISH
X-WR-CALNAME:NADI Pekan Padang Sera
X-ORIGINAL-URL:https://pekanpadangsera.nadi.my
X-WR-CALDESC:Events for NADI Pekan Padang Sera
REFRESH-INTERVAL;VALUE=DURATION:PT1H
X-Robots-Tag:noindex
X-PUBLISHED-TTL:PT1H
BEGIN:VTIMEZONE
TZID:UTC
BEGIN:STANDARD
TZOFFSETFROM:+0000
TZOFFSETTO:+0000
TZNAME:UTC
DTSTART:20240101T000000
END:STANDARD
END:VTIMEZONE
BEGIN:VEVENT
DTSTART;TZID=UTC:20250808T080000
DTEND;TZID=UTC:20250910T170000
DTSTAMP:20260423T020222
CREATED:20250727T061033Z
LAST-MODIFIED:20250727T061033Z
UID:4574-1754640000-1757523600@pekanpadangsera.nadi.my
SUMMARY:Esport: Kelas Kesedaran
DESCRIPTION:
URL:https://pekanpadangsera.nadi.my/event/esport-kelas-kesedaran/
END:VEVENT
BEGIN:VEVENT
DTSTART;TZID=UTC:20250812T080000
DTEND;TZID=UTC:20250814T170000
DTSTAMP:20260423T020222
CREATED:20250727T062648Z
LAST-MODIFIED:20250727T062648Z
UID:4606-1754985600-1755190800@pekanpadangsera.nadi.my
SUMMARY:Tiny Techies: Regional Bootcamps & Competitions (Central & Southern)
DESCRIPTION:
URL:https://pekanpadangsera.nadi.my/event/tiny-techies-regional-bootcamps-competitions-central-southern/
END:VEVENT
BEGIN:VEVENT
DTSTART;TZID=UTC:20250813T080000
DTEND;TZID=UTC:20250813T170000
DTSTAMP:20260423T020222
CREATED:20250727T061742Z
LAST-MODIFIED:20250727T061742Z
UID:4596-1755072000-1755104400@pekanpadangsera.nadi.my
SUMMARY:Ekelas: Modul 1-2
DESCRIPTION:
URL:https://pekanpadangsera.nadi.my/event/ekelas-modul-1-2-5/
END:VEVENT
END:VCALENDAR