BEGIN:VCALENDAR
VERSION:2.0
PRODID:-//NADI Pekan Padang Sera - ECPv6.15.20//NONSGML v1.0//EN
CALSCALE:GREGORIAN
METHOD:PUBLISH
X-WR-CALNAME:NADI Pekan Padang Sera
X-ORIGINAL-URL:https://pekanpadangsera.nadi.my
X-WR-CALDESC:Events for NADI Pekan Padang Sera
REFRESH-INTERVAL;VALUE=DURATION:PT1H
X-Robots-Tag:noindex
X-PUBLISHED-TTL:PT1H
BEGIN:VTIMEZONE
TZID:UTC
BEGIN:STANDARD
TZOFFSETFROM:+0000
TZOFFSETTO:+0000
TZNAME:UTC
DTSTART:20240101T000000
END:STANDARD
END:VTIMEZONE
BEGIN:VEVENT
DTSTART;TZID=UTC:20250708T090000
DTEND;TZID=UTC:20250711T180000
DTSTAMP:20260423T160900
CREATED:20250706T020737Z
LAST-MODIFIED:20250706T020737Z
UID:4427-1751965200-1752256800@pekanpadangsera.nadi.my
SUMMARY:English Proficiency Lesson 12
DESCRIPTION:
URL:https://pekanpadangsera.nadi.my/event/english-proficiency-lesson-12/
END:VEVENT
BEGIN:VEVENT
DTSTART;TZID=UTC:20250710T150000
DTEND;TZID=UTC:20250710T163000
DTSTAMP:20260423T160900
CREATED:20250706T020520Z
LAST-MODIFIED:20250706T020520Z
UID:4425-1752159600-1752165000@pekanpadangsera.nadi.my
SUMMARY:Cybersecurity: Webinar Dari Serangan Siber ke Pemulihan
DESCRIPTION:
URL:https://pekanpadangsera.nadi.my/event/cybersecurity-webinar-dari-serangan-siber-ke-pemulihan/
END:VEVENT
END:VCALENDAR